BEGIN:VCALENDAR
VERSION:2.0
PRODID:-//Harford County Amateur Radio ARES RACES - ECPv6.15.20//NONSGML v1.0//EN
CALSCALE:GREGORIAN
METHOD:PUBLISH
X-WR-CALNAME:Harford County Amateur Radio ARES RACES
X-ORIGINAL-URL:https://harfordcountymd-ares-races.org
X-WR-CALDESC:Events for Harford County Amateur Radio ARES RACES
REFRESH-INTERVAL;VALUE=DURATION:PT1H
X-Robots-Tag:noindex
X-PUBLISHED-TTL:PT1H
BEGIN:VTIMEZONE
TZID:America/New_York
BEGIN:DAYLIGHT
TZOFFSETFROM:-0500
TZOFFSETTO:-0400
TZNAME:EDT
DTSTART:20220313T070000
END:DAYLIGHT
BEGIN:STANDARD
TZOFFSETFROM:-0400
TZOFFSETTO:-0500
TZNAME:EST
DTSTART:20221106T060000
END:STANDARD
BEGIN:DAYLIGHT
TZOFFSETFROM:-0500
TZOFFSETTO:-0400
TZNAME:EDT
DTSTART:20230312T070000
END:DAYLIGHT
BEGIN:STANDARD
TZOFFSETFROM:-0400
TZOFFSETTO:-0500
TZNAME:EST
DTSTART:20231105T060000
END:STANDARD
BEGIN:DAYLIGHT
TZOFFSETFROM:-0500
TZOFFSETTO:-0400
TZNAME:EDT
DTSTART:20240310T070000
END:DAYLIGHT
BEGIN:STANDARD
TZOFFSETFROM:-0400
TZOFFSETTO:-0500
TZNAME:EST
DTSTART:20241103T060000
END:STANDARD
END:VTIMEZONE
BEGIN:VEVENT
DTSTART;TZID=America/New_York:20230808T190000
DTEND;TZID=America/New_York:20230808T190000
DTSTAMP:20260424T061348
CREATED:20230715T005448Z
LAST-MODIFIED:20230715T005448Z
UID:825-1691521200-1691521200@harfordcountymd-ares-races.org
SUMMARY:On Air Net
DESCRIPTION:Please join us for our (twice) monthly\, on-the-air meetings\, on the second and fourth Tuesday of each month\, 7:00 PM Eastern time. We meet on the KC3FHC analog repeater\, frequency 146.775\, (-) PL tone 146.2.
URL:https://harfordcountymd-ares-races.org/event/on-air-net-7/
LOCATION:Harford County Department of Emergency Services & Remote Locations\, 2220 Ady Rd\, Forest Hill\, 21050\, United States
CATEGORIES:On Air Net
END:VEVENT
BEGIN:VEVENT
DTSTART;TZID=America/New_York:20230803T190000
DTEND;TZID=America/New_York:20230803T210000
DTSTAMP:20260424T061348
CREATED:20230715T005637Z
LAST-MODIFIED:20230715T005637Z
UID:829-1691089200-1691096400@harfordcountymd-ares-races.org
SUMMARY:Monthly Member Meeting
DESCRIPTION:Join us for an in-person meeting of the Harford County ARES/RACES Group\, at the Harford County Emergency Operations Center in Forest Hill\, MD.Kindly let us know in advance if you would like to attend\, via email (W3YR@arrl.net). Thank you.
URL:https://harfordcountymd-ares-races.org/event/monthly-member-meeting-3/
LOCATION:Harford County Department of Emergency Services & Remote Locations\, 2220 Ady Rd\, Forest Hill\, 21050\, United States
CATEGORIES:ARES/RACES Meeting
END:VEVENT
BEGIN:VEVENT
DTSTART;TZID=America/New_York:20230725T190000
DTEND;TZID=America/New_York:20230725T190000
DTSTAMP:20260424T061348
CREATED:20230628T165405Z
LAST-MODIFIED:20230628T165405Z
UID:681-1690311600-1690311600@harfordcountymd-ares-races.org
SUMMARY:On Air Net
DESCRIPTION:Please join us for our (twice) monthly\, on-the-air meetings\, on the second and fourth Tuesday of each month\, 7:00 PM Eastern time. We meet on the KC3FHC analog repeater\, frequency 146.775\, (-) PL tone 146.2.
URL:https://harfordcountymd-ares-races.org/event/on-air-net-6/
CATEGORIES:On Air Net
END:VEVENT
BEGIN:VEVENT
DTSTART;TZID=America/New_York:20230711T190000
DTEND;TZID=America/New_York:20230711T190000
DTSTAMP:20260424T061348
CREATED:20230628T165333Z
LAST-MODIFIED:20230628T165333Z
UID:679-1689102000-1689102000@harfordcountymd-ares-races.org
SUMMARY:On Air Net
DESCRIPTION:Please join us for our (twice) monthly\, on-the-air meetings\, on the second and fourth Tuesday of each month\, 7:00 PM Eastern time. We meet on the KC3FHC analog repeater\, frequency 146.775\, (-) PL tone 146.2.
URL:https://harfordcountymd-ares-races.org/event/on-air-net/
CATEGORIES:On Air Net
END:VEVENT
BEGIN:VEVENT
DTSTART;TZID=America/New_York:20230706T190000
DTEND;TZID=America/New_York:20230706T210000
DTSTAMP:20260424T061348
CREATED:20230628T165213Z
LAST-MODIFIED:20230628T165213Z
UID:677-1688670000-1688677200@harfordcountymd-ares-races.org
SUMMARY:Monthly Member Meeting
DESCRIPTION:Join us for an in-person meeting of the Harford County ARES/RACES Group\, at the Harford County Emergency Operations Center in Forest Hill\, MD.Kindly let us know in advance if you would like to attend\, via email (W3YR@arrl.net). Thank you.
URL:https://harfordcountymd-ares-races.org/event/monthly-member-meeting-2/
LOCATION:Harford County Department of Emergency Services & Remote Locations\, 2220 Ady Rd\, Forest Hill\, 21050\, United States
CATEGORIES:ARES/RACES Meeting
END:VEVENT
BEGIN:VEVENT
DTSTART;TZID=America/New_York:20230624T110000
DTEND;TZID=America/New_York:20230625T170000
DTSTAMP:20260424T061348
CREATED:20230427T224653Z
LAST-MODIFIED:20230427T224827Z
UID:648-1687604400-1687712400@harfordcountymd-ares-races.org
SUMMARY:2023 Field Day
DESCRIPTION:CALLING ALL HAMS AND PEOPLE INTERESTED IN AMATEUR RADIO. \nHarford County ARRS/RACES will participate in the 2023 ARRL Field Day activities\, over two days\, outdoors at our headquarters. Please join us and see how you can become a part of this North American radio event. \nField Day is Ham Radio’s open house.\nEvery June\, more than 40\,000 hams throughout North America set up temporary transmitting stations in public places to demonstrate ham radio’s science\, skill and service to our communities and our nation. It combines public service\, emergency preparedness\, community outreach\, and technical skills all in a single event. Field Day has been an annual event since 1933\, and remains the most popular event in all of ham radio. Learn more about the history at : \nhttp://www.arrl.org/field-day \n 
URL:https://harfordcountymd-ares-races.org/event/2023-field-day/
LOCATION:Harford County Department of Emergency Services & Remote Locations\, 2220 Ady Rd\, Forest Hill\, 21050\, United States
CATEGORIES:Field Day
ORGANIZER;CN="Ted Wierworka":MAILTO:W3YR@arrl.net
END:VEVENT
BEGIN:VEVENT
DTSTART;TZID=America/New_York:20230622T140000
DTEND;TZID=America/New_York:20230623T160000
DTSTAMP:20260424T061348
CREATED:20240511T005143Z
LAST-MODIFIED:20240511T005143Z
UID:1194-1687442400-1687536000@harfordcountymd-ares-races.org
SUMMARY:2024 Field Day
DESCRIPTION:  \n \nCALLING ALL HAMS AND PEOPLE INTERESTED IN AMATEUR RADIO. \nHarford County ARES/RACES will participate in the 2024 Field Day activities on June 22 and June 23\,  Field Day begins on June 22 at 1800 UTC (2:00 pm local time) running continuously until Sunday\, June 23 at 2059 UTC (4:59 pm local time)). We will be operating at least three stations using battery\, solar or generator power\, outdoors\, in the large field at the Harford County Emergency Operations Center at 2200 Ady Road\, Forest Hill\, MD 21050.  There is no charge and the two day event is open to all licensed amateur operators and we welcome all interested in amateur radio operations.\n  \nContact Steven Fook\, Harford County Emergency Coordinator for more information\nCallsign: K2EJ\, Email:  Send email to Steven Fook\nField Day is Ham Radio’s open house.\nEvery June\, more than 40\,000 hams throughout North America set up temporary transmitting stations in public places to demonstrate ham radio’s science\, skill and service to our communities and our nation. It combines public service\, emergency preparedness\, community outreach\, and technical skills all in a single event. Field Day has been an annual event since 1933\, and remains the most popular event in all of ham radio. Learn more about the history at : \nhttp://www.arrl.org/field-day \n 
URL:https://harfordcountymd-ares-races.org/event/2024-field-day/
LOCATION:Harford County Department of Emergency Services & Remote Locations\, 2220 Ady Rd\, Forest Hill\, 21050\, United States
CATEGORIES:Field Day
END:VEVENT
BEGIN:VEVENT
DTSTART;TZID=America/New_York:20230601T190000
DTEND;TZID=America/New_York:20230601T210000
DTSTAMP:20260424T061348
CREATED:20230523T161434Z
LAST-MODIFIED:20230523T161434Z
UID:671-1685646000-1685653200@harfordcountymd-ares-races.org
SUMMARY:Monthly Member Meeting
DESCRIPTION:Join us for an in-person meeting of the Harford County ARES/RACES Group\, at the Harford County Emergency Operations Center in Forest Hill\, MD.Kindly let us know in advance if you would like to attend\, via email (W3YR@arrl.net). Thank you.
URL:https://harfordcountymd-ares-races.org/event/monthly-member-meeting/
LOCATION:Harford County Department of Emergency Services & Remote Locations\, 2220 Ady Rd\, Forest Hill\, 21050\, United States
CATEGORIES:ARES/RACES Meeting
END:VEVENT
BEGIN:VEVENT
DTSTART;TZID=America/New_York:20230523T190000
DTEND;TZID=America/New_York:20230523T190000
DTSTAMP:20260424T061348
CREATED:20230427T225459Z
LAST-MODIFIED:20230427T225459Z
UID:659-1684868400-1684868400@harfordcountymd-ares-races.org
SUMMARY:On Air Net
DESCRIPTION:Please join us for our (twice) monthly\, on-the-air meetings\, on the second and fourth Tuesday of each month\, 7:00 PM Eastern time. We meet on the KC3FHC analog repeater\, frequency 146.775\, (-) PL tone 146.2.
URL:https://harfordcountymd-ares-races.org/event/on-air-net-4/
CATEGORIES:On Air Net
END:VEVENT
BEGIN:VEVENT
DTSTART;TZID=America/New_York:20230509T190000
DTEND;TZID=America/New_York:20230509T190000
DTSTAMP:20260424T061348
CREATED:20230403T192255Z
LAST-MODIFIED:20230427T225134Z
UID:638-1683658800-1683658800@harfordcountymd-ares-races.org
SUMMARY:On Air Net
DESCRIPTION:Please join us for our (twice) monthly\, on-the-air meetings\, on the second and fourth Tuesday of each month\, 7:00 PM Eastern time. We meet on the KC3FHC analog repeater\, frequency 146.775\, (-) PL tone 146.2.
URL:https://harfordcountymd-ares-races.org/event/on-air-net-5/
CATEGORIES:On Air Net
END:VEVENT
BEGIN:VEVENT
DTSTART;TZID=America/New_York:20230504T190000
DTEND;TZID=America/New_York:20230504T210000
DTSTAMP:20260424T061348
CREATED:20230427T231203Z
LAST-MODIFIED:20230427T231343Z
UID:665-1683226800-1683234000@harfordcountymd-ares-races.org
SUMMARY:Monthly Meeting
DESCRIPTION:Join us for our monthly\, in-person\, meeting for members of the volunteer emergency\, amateur radio team. Meetings are held in Room #105 of the Harford County Emergency Operations Center\, 2220 Ady Road\, Forest Hill\, MD 21050
URL:https://harfordcountymd-ares-races.org/event/monthly-meeting/
LOCATION:Harford County Department of Emergency Services & Remote Locations\, 2220 Ady Rd\, Forest Hill\, 21050\, United States
CATEGORIES:ARES/RACES Meeting
END:VEVENT
BEGIN:VEVENT
DTSTART;TZID=America/New_York:20230411T190000
DTEND;TZID=America/New_York:20230411T190000
DTSTAMP:20260424T061348
CREATED:20230325T185007Z
LAST-MODIFIED:20230321T180155Z
UID:582-1681239600-1681239600@harfordcountymd-ares-races.org
SUMMARY:On Air Net
DESCRIPTION:Please join us for our (twice) monthly\, on-the-air meetings\, on the second and fourth Tuesday of each month\, 7:00 PM Eastern time. We meet on the KC3FHC analog repeater\, frequency 146.775\, (-) PL tone 146.2.
URL:https://harfordcountymd-ares-races.org/event/on-air-net-3/
CATEGORIES:On Air Net
END:VEVENT
BEGIN:VEVENT
DTSTART;TZID=America/New_York:20230406T180000
DTEND;TZID=America/New_York:20230406T210000
DTSTAMP:20260424T061348
CREATED:20230403T193207Z
LAST-MODIFIED:20230403T193243Z
UID:644-1680804000-1680814800@harfordcountymd-ares-races.org
SUMMARY:Harford County ARES/RACES Recruitment Event
DESCRIPTION:Harford County ARES/RACES Recruitment Event\n\n\nHarford County Amateur Radio Emergency Service (ARES) / Radio Amateur Civil Emergency Service\n(RACES) will be holding a recruitment event on April 6\, 2023 at the Harford County Department of\nEmergency Services (DES)\, 2220 Ady Road\, Forest Hill\, MD. Food and refreshments will be served at 6\nPM\, and the meeting will commence at 7 PM. Hams interested in attending should send an email to\nharfordaresraces@gmail.com. ARES/RACES provides backup and supplemental radio communications\nto DES and other county agencies during major emergency events and communication outage events.
URL:https://harfordcountymd-ares-races.org/event/harford-county-ares-races-recruitment-event/
LOCATION:Harford County Department of Emergency Services & Remote Locations\, 2220 Ady Rd\, Forest Hill\, 21050\, United States
END:VEVENT
BEGIN:VEVENT
DTSTART;TZID=America/New_York:20230314T190000
DTEND;TZID=America/New_York:20230314T190000
DTSTAMP:20260424T061348
CREATED:20230301T181715Z
LAST-MODIFIED:20230301T181715Z
UID:469-1678820400-1678820400@harfordcountymd-ares-races.org
SUMMARY:On Air Net
DESCRIPTION:Please join us for our (twice) monthly\, on-the-air meetings\, on the second and fourth Tuesday of each month\, 7:00 PM Eastern time. We meet on the KC3FHC analog repeater\, frequency 146.775\, (-) PL tone 146.2.
URL:https://harfordcountymd-ares-races.org/event/on-air-net-2/
CATEGORIES:On Air Net
END:VEVENT
END:VCALENDAR