BEGIN:VCALENDAR
VERSION:2.0
PRODID:-//Harford County Amateur Radio ARES RACES - ECPv6.15.20//NONSGML v1.0//EN
CALSCALE:GREGORIAN
METHOD:PUBLISH
X-WR-CALNAME:Harford County Amateur Radio ARES RACES
X-ORIGINAL-URL:https://harfordcountymd-ares-races.org
X-WR-CALDESC:Events for Harford County Amateur Radio ARES RACES
REFRESH-INTERVAL;VALUE=DURATION:PT1H
X-Robots-Tag:noindex
X-PUBLISHED-TTL:PT1H
BEGIN:VTIMEZONE
TZID:America/New_York
BEGIN:DAYLIGHT
TZOFFSETFROM:-0500
TZOFFSETTO:-0400
TZNAME:EDT
DTSTART:20230312T070000
END:DAYLIGHT
BEGIN:STANDARD
TZOFFSETFROM:-0400
TZOFFSETTO:-0500
TZNAME:EST
DTSTART:20231105T060000
END:STANDARD
BEGIN:DAYLIGHT
TZOFFSETFROM:-0500
TZOFFSETTO:-0400
TZNAME:EDT
DTSTART:20240310T070000
END:DAYLIGHT
BEGIN:STANDARD
TZOFFSETFROM:-0400
TZOFFSETTO:-0500
TZNAME:EST
DTSTART:20241103T060000
END:STANDARD
BEGIN:DAYLIGHT
TZOFFSETFROM:-0500
TZOFFSETTO:-0400
TZNAME:EDT
DTSTART:20250309T070000
END:DAYLIGHT
BEGIN:STANDARD
TZOFFSETFROM:-0400
TZOFFSETTO:-0500
TZNAME:EST
DTSTART:20251102T060000
END:STANDARD
BEGIN:DAYLIGHT
TZOFFSETFROM:-0500
TZOFFSETTO:-0400
TZNAME:EDT
DTSTART:20260308T070000
END:DAYLIGHT
BEGIN:STANDARD
TZOFFSETFROM:-0400
TZOFFSETTO:-0500
TZNAME:EST
DTSTART:20261101T060000
END:STANDARD
END:VTIMEZONE
BEGIN:VEVENT
DTSTART;TZID=America/New_York:20250102T190000
DTEND;TZID=America/New_York:20250102T210000
DTSTAMP:20260424T114620
CREATED:20241230T155540Z
LAST-MODIFIED:20241230T155540Z
UID:1288-1735844400-1735851600@harfordcountymd-ares-races.org
SUMMARY:Monthly Member Meeting
DESCRIPTION:Join us for an in-person\, monthly meeting of the Harford County ARES/RACES Group\, at the Harford County Emergency Operations Center in 2220 Ady Road\, Forest Hill\, MD. Kindly let us know in advance if you would like to attend\, via email to Steven Fook\, Harford County Emergency Coordinator Callsign: K2EJ send email. Thank you. \n 
URL:https://harfordcountymd-ares-races.org/event/monthly-member-meeting-19/
LOCATION:Harford County Department of Emergency Services & Remote Locations\, 2220 Ady Rd\, Forest Hill\, 21050\, United States
CATEGORIES:ARES/RACES Meeting
ATTACH;FMTTYPE=image/jpeg:https://harfordcountymd-ares-races.org/wp-content/uploads/2023/03/244137822_230559015776397_5311459691032320388_n.jpg
END:VEVENT
BEGIN:VEVENT
DTSTART;TZID=America/New_York:20241210T190000
DTEND;TZID=America/New_York:20241210T210000
DTSTAMP:20260424T114620
CREATED:20241023T000908Z
LAST-MODIFIED:20241126T191112Z
UID:1280-1733857200-1733864400@harfordcountymd-ares-races.org
SUMMARY:On Air Net
DESCRIPTION:  \nPlease join us for our (twice) monthly\, on-the-air meetings\, on the second and fourth Tuesday of each month\, 7:00 PM Eastern time. We meet on the KC3FHC analog repeater\, frequency 146.775\, (-) PL tone 146.2. ARES/RACES membership is not a requirement to participate in the net.
URL:https://harfordcountymd-ares-races.org/event/on-air-net-36/
LOCATION:Harford County Department of Emergency Services & Remote Locations\, 2220 Ady Rd\, Forest Hill\, 21050\, United States
CATEGORIES:On Air Net
END:VEVENT
BEGIN:VEVENT
DTSTART;TZID=America/New_York:20241205T190000
DTEND;TZID=America/New_York:20241205T210000
DTSTAMP:20260424T114620
CREATED:20241126T190715Z
LAST-MODIFIED:20241126T190715Z
UID:1284-1733425200-1733432400@harfordcountymd-ares-races.org
SUMMARY:Monthly Member Meeting
DESCRIPTION:Join us for an in-person\, monthly meeting of the Harford County ARES/RACES Group\, at the Harford County Emergency Operations Center in 2220 Ady Road\, Forest Hill\, MD. Kindly let us know in advance if you would like to attend\, via email to Steven Fook\, Harford County Emergency Coordinator Callsign: K2EJ send email. Thank you. \n 
URL:https://harfordcountymd-ares-races.org/event/monthly-member-meeting-18/
LOCATION:Harford County Department of Emergency Services & Remote Locations\, 2220 Ady Rd\, Forest Hill\, 21050\, United States
CATEGORIES:ARES/RACES Meeting
ATTACH;FMTTYPE=image/jpeg:https://harfordcountymd-ares-races.org/wp-content/uploads/2023/03/244137822_230559015776397_5311459691032320388_n.jpg
END:VEVENT
BEGIN:VEVENT
DTSTART;TZID=America/New_York:20241112T190000
DTEND;TZID=America/New_York:20241112T210000
DTSTAMP:20260424T114620
CREATED:20241023T000823Z
LAST-MODIFIED:20241023T000823Z
UID:1278-1731438000-1731445200@harfordcountymd-ares-races.org
SUMMARY:On Air Net
DESCRIPTION:  \nPlease join us for our (twice) monthly\, on-the-air meetings\, on the second and fourth Tuesday of each month\, 7:00 PM Eastern time. We meet on the KC3FHC analog repeater\, frequency 146.775\, (-) PL tone 146.2. ARES/RACES membership is not a requirement to participate in the net.
URL:https://harfordcountymd-ares-races.org/event/on-air-net-35/
LOCATION:Harford County Department of Emergency Services & Remote Locations\, 2220 Ady Rd\, Forest Hill\, 21050\, United States
CATEGORIES:On Air Net
END:VEVENT
BEGIN:VEVENT
DTSTART;TZID=America/New_York:20241107T190000
DTEND;TZID=America/New_York:20241107T210000
DTSTAMP:20260424T114620
CREATED:20241023T000946Z
LAST-MODIFIED:20241023T000946Z
UID:1282-1731006000-1731013200@harfordcountymd-ares-races.org
SUMMARY:Monthly Member Meeting
DESCRIPTION:Join us for an in-person\, monthly meeting of the Harford County ARES/RACES Group\, at the Harford County Emergency Operations Center in 2220 Ady Road\, Forest Hill\, MD. Kindly let us know in advance if you would like to attend\, via email to Steven Fook\, Harford County Emergency Coordinator Callsign: K2EJ send email. Thank you. \n 
URL:https://harfordcountymd-ares-races.org/event/monthly-member-meeting-17/
LOCATION:Harford County Department of Emergency Services & Remote Locations\, 2220 Ady Rd\, Forest Hill\, 21050\, United States
CATEGORIES:ARES/RACES Meeting
ATTACH;FMTTYPE=image/jpeg:https://harfordcountymd-ares-races.org/wp-content/uploads/2023/03/244137822_230559015776397_5311459691032320388_n.jpg
END:VEVENT
BEGIN:VEVENT
DTSTART;TZID=America/New_York:20241022T190000
DTEND;TZID=America/New_York:20241022T210000
DTSTAMP:20260424T114620
CREATED:20240909T200448Z
LAST-MODIFIED:20240909T200448Z
UID:1259-1729623600-1729630800@harfordcountymd-ares-races.org
SUMMARY:On Air Net
DESCRIPTION:  \nPlease join us for our (twice) monthly\, on-the-air meetings\, on the second and fourth Tuesday of each month\, 7:00 PM Eastern time. We meet on the KC3FHC analog repeater\, frequency 146.775\, (-) PL tone 146.2. ARES/RACES membership is not a requirement to participate in the net.
URL:https://harfordcountymd-ares-races.org/event/on-air-net-34/
LOCATION:Harford County Department of Emergency Services & Remote Locations\, 2220 Ady Rd\, Forest Hill\, 21050\, United States
CATEGORIES:On Air Net
END:VEVENT
BEGIN:VEVENT
DTSTART;TZID=America/New_York:20241008T190000
DTEND;TZID=America/New_York:20241008T210000
DTSTAMP:20260424T114620
CREATED:20240909T200138Z
LAST-MODIFIED:20240909T200327Z
UID:1257-1728414000-1728421200@harfordcountymd-ares-races.org
SUMMARY:On Air Net
DESCRIPTION:  \nPlease join us for our (twice) monthly\, on-the-air meetings\, on the second and fourth Tuesday of each month\, 7:00 PM Eastern time. We meet on the KC3FHC analog repeater\, frequency 146.775\, (-) PL tone 146.2. ARES/RACES membership is not a requirement to participate in the net.
URL:https://harfordcountymd-ares-races.org/event/on-air-net-33/
LOCATION:Harford County Department of Emergency Services & Remote Locations\, 2220 Ady Rd\, Forest Hill\, 21050\, United States
CATEGORIES:On Air Net
END:VEVENT
BEGIN:VEVENT
DTSTART;TZID=America/New_York:20241003T190000
DTEND;TZID=America/New_York:20241003T210000
DTSTAMP:20260424T114620
CREATED:20240909T200551Z
LAST-MODIFIED:20240909T200551Z
UID:1261-1727982000-1727989200@harfordcountymd-ares-races.org
SUMMARY:Monthly Member Meeting
DESCRIPTION:Join us for an in-person\, monthly meeting of the Harford County ARES/RACES Group\, at the Harford County Emergency Operations Center in 2220 Ady Road\, Forest Hill\, MD. Kindly let us know in advance if you would like to attend\, via email to Steven Fook\, Harford County Emergency Coordinator Callsign: K2EJ send email. Thank you. \n 
URL:https://harfordcountymd-ares-races.org/event/monthly-member-meeting-16/
LOCATION:Harford County Department of Emergency Services & Remote Locations\, 2220 Ady Rd\, Forest Hill\, 21050\, United States
CATEGORIES:ARES/RACES Meeting
ATTACH;FMTTYPE=image/jpeg:https://harfordcountymd-ares-races.org/wp-content/uploads/2023/03/244137822_230559015776397_5311459691032320388_n.jpg
END:VEVENT
BEGIN:VEVENT
DTSTART;TZID=America/New_York:20240924T190000
DTEND;TZID=America/New_York:20240924T210000
DTSTAMP:20260424T114620
CREATED:20240711T003004Z
LAST-MODIFIED:20240711T003004Z
UID:1239-1727204400-1727211600@harfordcountymd-ares-races.org
SUMMARY:On Air Net
DESCRIPTION:  \nPlease join us for our (twice) monthly\, on-the-air meetings\, on the second and fourth Tuesday of each month\, 7:00 PM Eastern time. We meet on the KC3FHC analog repeater\, frequency 146.775\, (-) PL tone 146.2. ARES/RACES membership is not a requirement to participate in the net.
URL:https://harfordcountymd-ares-races.org/event/on-air-net-32/
LOCATION:Harford County Department of Emergency Services & Remote Locations\, 2220 Ady Rd\, Forest Hill\, 21050\, United States
CATEGORIES:On Air Net
END:VEVENT
BEGIN:VEVENT
DTSTART;TZID=America/New_York:20240910T190000
DTEND;TZID=America/New_York:20240910T210000
DTSTAMP:20260424T114620
CREATED:20240711T002936Z
LAST-MODIFIED:20240711T002936Z
UID:1237-1725994800-1726002000@harfordcountymd-ares-races.org
SUMMARY:On Air Net
DESCRIPTION:  \nPlease join us for our (twice) monthly\, on-the-air meetings\, on the second and fourth Tuesday of each month\, 7:00 PM Eastern time. We meet on the KC3FHC analog repeater\, frequency 146.775\, (-) PL tone 146.2. ARES/RACES membership is not a requirement to participate in the net.
URL:https://harfordcountymd-ares-races.org/event/on-air-net-31/
LOCATION:Harford County Department of Emergency Services & Remote Locations\, 2220 Ady Rd\, Forest Hill\, 21050\, United States
CATEGORIES:On Air Net
END:VEVENT
BEGIN:VEVENT
DTSTART;TZID=America/New_York:20240905T190000
DTEND;TZID=America/New_York:20240905T210000
DTSTAMP:20260424T114620
CREATED:20240711T002850Z
LAST-MODIFIED:20240711T002850Z
UID:1235-1725562800-1725570000@harfordcountymd-ares-races.org
SUMMARY:Monthly Member Meeting
DESCRIPTION:Join us for an in-person\, monthly meeting of the Harford County ARES/RACES Group\, at the Harford County Emergency Operations Center in 2220 Ady Road\, Forest Hill\, MD. Kindly let us know in advance if you would like to attend\, via email to Steven Fook\, Harford County Emergency Coordinator Callsign: K2EJ send email. Thank you. \n 
URL:https://harfordcountymd-ares-races.org/event/monthly-member-meeting-15/
LOCATION:Harford County Department of Emergency Services & Remote Locations\, 2220 Ady Rd\, Forest Hill\, 21050\, United States
CATEGORIES:ARES/RACES Meeting
ATTACH;FMTTYPE=image/jpeg:https://harfordcountymd-ares-races.org/wp-content/uploads/2023/03/244137822_230559015776397_5311459691032320388_n.jpg
END:VEVENT
BEGIN:VEVENT
DTSTART;TZID=America/New_York:20240827T190000
DTEND;TZID=America/New_York:20240827T210000
DTSTAMP:20260424T114620
CREATED:20240711T002801Z
LAST-MODIFIED:20240711T002801Z
UID:1233-1724785200-1724792400@harfordcountymd-ares-races.org
SUMMARY:On Air Net
DESCRIPTION:  \nPlease join us for our (twice) monthly\, on-the-air meetings\, on the second and fourth Tuesday of each month\, 7:00 PM Eastern time. We meet on the KC3FHC analog repeater\, frequency 146.775\, (-) PL tone 146.2. ARES/RACES membership is not a requirement to participate in the net.
URL:https://harfordcountymd-ares-races.org/event/on-air-net-30/
LOCATION:Harford County Department of Emergency Services & Remote Locations\, 2220 Ady Rd\, Forest Hill\, 21050\, United States
CATEGORIES:On Air Net
END:VEVENT
BEGIN:VEVENT
DTSTART;TZID=America/New_York:20240813T190000
DTEND;TZID=America/New_York:20240813T210000
DTSTAMP:20260424T114620
CREATED:20240711T002732Z
LAST-MODIFIED:20240711T002732Z
UID:1231-1723575600-1723582800@harfordcountymd-ares-races.org
SUMMARY:On Air Net
DESCRIPTION:  \nPlease join us for our (twice) monthly\, on-the-air meetings\, on the second and fourth Tuesday of each month\, 7:00 PM Eastern time. We meet on the KC3FHC analog repeater\, frequency 146.775\, (-) PL tone 146.2. ARES/RACES membership is not a requirement to participate in the net.
URL:https://harfordcountymd-ares-races.org/event/on-air-net-29/
LOCATION:Harford County Department of Emergency Services & Remote Locations\, 2220 Ady Rd\, Forest Hill\, 21050\, United States
CATEGORIES:On Air Net
END:VEVENT
BEGIN:VEVENT
DTSTART;TZID=America/New_York:20240801T190000
DTEND;TZID=America/New_York:20240801T210000
DTSTAMP:20260424T114620
CREATED:20240711T002637Z
LAST-MODIFIED:20240711T002637Z
UID:1229-1722538800-1722546000@harfordcountymd-ares-races.org
SUMMARY:Monthly Member Meeting
DESCRIPTION:Join us for an in-person\, monthly meeting of the Harford County ARES/RACES Group\, at the Harford County Emergency Operations Center in 2220 Ady Road\, Forest Hill\, MD. Kindly let us know in advance if you would like to attend\, via email to Steven Fook\, Harford County Emergency Coordinator Callsign: K2EJ send email. Thank you. \n 
URL:https://harfordcountymd-ares-races.org/event/monthly-member-meeting-14/
LOCATION:Harford County Department of Emergency Services & Remote Locations\, 2220 Ady Rd\, Forest Hill\, 21050\, United States
CATEGORIES:ARES/RACES Meeting
ATTACH;FMTTYPE=image/jpeg:https://harfordcountymd-ares-races.org/wp-content/uploads/2023/03/244137822_230559015776397_5311459691032320388_n.jpg
END:VEVENT
BEGIN:VEVENT
DTSTART;TZID=America/New_York:20240723T190000
DTEND;TZID=America/New_York:20240723T210000
DTSTAMP:20260424T114620
CREATED:20240630T024717Z
LAST-MODIFIED:20240630T024717Z
UID:1224-1721761200-1721768400@harfordcountymd-ares-races.org
SUMMARY:On Air Net (July 2024 Cancellation)
DESCRIPTION:  \nOur twice monthly on the air net is cancelled for the month of July\, resuming on August12\, 2024 at 7:00 pm
URL:https://harfordcountymd-ares-races.org/event/on-air-net-july-2024-cancellation-2/
LOCATION:Harford County Department of Emergency Services & Remote Locations\, 2220 Ady Rd\, Forest Hill\, 21050\, United States
CATEGORIES:On Air Net
END:VEVENT
BEGIN:VEVENT
DTSTART;TZID=America/New_York:20240709T190000
DTEND;TZID=America/New_York:20240709T210000
DTSTAMP:20260424T114620
CREATED:20240630T024412Z
LAST-MODIFIED:20240630T024605Z
UID:1222-1720551600-1720558800@harfordcountymd-ares-races.org
SUMMARY:On Air Net (July 2024 Cancellation)
DESCRIPTION:  \nOur twice monthly on the air net is cancelled for the month of July\, resuming on August12\, 2024 at 7:00 pm
URL:https://harfordcountymd-ares-races.org/event/on-air-net-july-2024-cancellation/
LOCATION:Harford County Department of Emergency Services & Remote Locations\, 2220 Ady Rd\, Forest Hill\, 21050\, United States
CATEGORIES:On Air Net
END:VEVENT
BEGIN:VEVENT
DTSTART;TZID=America/New_York:20240704T190000
DTEND;TZID=America/New_York:20240704T210000
DTSTAMP:20260424T114620
CREATED:20240510T234946Z
LAST-MODIFIED:20240630T025053Z
UID:1184-1720119600-1720126800@harfordcountymd-ares-races.org
SUMMARY:Monthly Member Meeting (Cancellation)
DESCRIPTION:The monthly in person meeting  of the Harford County ARES/RACES organization is cancelled for the month of July\, resuming on August 1\, 2024
URL:https://harfordcountymd-ares-races.org/event/monthly-member-meeting-13/
LOCATION:Harford County Department of Emergency Services & Remote Locations\, 2220 Ady Rd\, Forest Hill\, 21050\, United States
CATEGORIES:ARES/RACES Meeting
ATTACH;FMTTYPE=image/jpeg:https://harfordcountymd-ares-races.org/wp-content/uploads/2023/03/244137822_230559015776397_5311459691032320388_n.jpg
END:VEVENT
BEGIN:VEVENT
DTSTART;TZID=America/New_York:20240625T190000
DTEND;TZID=America/New_York:20240625T210000
DTSTAMP:20260424T114620
CREATED:20240510T234840Z
LAST-MODIFIED:20240510T234840Z
UID:1182-1719342000-1719349200@harfordcountymd-ares-races.org
SUMMARY:On Air Net
DESCRIPTION:  \nPlease join us for our (twice) monthly\, on-the-air meetings\, on the second and fourth Tuesday of each month\, 7:00 PM Eastern time. We meet on the KC3FHC analog repeater\, frequency 146.775\, (-) PL tone 146.2. ARES/RACES membership is not a requirement to participate in the net.
URL:https://harfordcountymd-ares-races.org/event/on-air-net-28/
LOCATION:Harford County Department of Emergency Services & Remote Locations\, 2220 Ady Rd\, Forest Hill\, 21050\, United States
CATEGORIES:On Air Net
END:VEVENT
BEGIN:VEVENT
DTSTART;TZID=America/New_York:20240622T160000
DTEND;TZID=America/New_York:20240623T170000
DTSTAMP:20260424T114620
CREATED:20240511T005932Z
LAST-MODIFIED:20240511T005932Z
UID:1201-1719072000-1719162000@harfordcountymd-ares-races.org
SUMMARY:Field Day 2024
DESCRIPTION:Field Day 2024\n\n\n \nHarford County ARES/RACES will participate in the 2024 Field Day activities on June 22 and June 23\,  Field Day begins on June 22 at 1800 UTC (2:00 pm local time) running continuously until Sunday\, June 23 at 2059 UTC (4:59 pm local time)). We will be operating at least three stations using battery\, solar or generator power\, outdoors\, in the large field at the Harford County Emergency Operations Center at 2200 Ady Road\, Forest Hill\, MD 21050.  There is no charge and the two day event is open to all licensed amateur operators and we welcome all interested in amateur radio operations.\n  \nContact Steven Fook\, Harford County Emergency Coordinator for more information\nCallsign: K2EJ\, Email:  Send email to Steven Fook \n\nField Day is conducted under the auspices of the American Radio Relay League.  Rule foe the event can be found here.  ARRL Field Day Rules\nField Day is ham radio’s open house. Every June\, more than 40\,000 hams throughout North America set up temporary transmitting stations in public places to demonstrate ham radio’s science\, skill and service to our communities and our nation. It combines public service\, emergency preparedness\, community outreach\, and technical skills all in a single event. Field Day has been an annual event since 1933\, and remains the most popular event in ham radio. \n 
URL:https://harfordcountymd-ares-races.org/event/field-day-2024/
LOCATION:Harford County Department of Emergency Services & Remote Locations\, 2220 Ady Rd\, Forest Hill\, 21050\, United States
CATEGORIES:On Air Net
END:VEVENT
BEGIN:VEVENT
DTSTART;TZID=America/New_York:20240611T190000
DTEND;TZID=America/New_York:20240611T210000
DTSTAMP:20260424T114620
CREATED:20240510T234724Z
LAST-MODIFIED:20240510T234724Z
UID:1180-1718132400-1718139600@harfordcountymd-ares-races.org
SUMMARY:On Air Net
DESCRIPTION:  \nPlease join us for our (twice) monthly\, on-the-air meetings\, on the second and fourth Tuesday of each month\, 7:00 PM Eastern time. We meet on the KC3FHC analog repeater\, frequency 146.775\, (-) PL tone 146.2. ARES/RACES membership is not a requirement to participate in the net.
URL:https://harfordcountymd-ares-races.org/event/on-air-net-27/
LOCATION:Harford County Department of Emergency Services & Remote Locations\, 2220 Ady Rd\, Forest Hill\, 21050\, United States
CATEGORIES:On Air Net
END:VEVENT
BEGIN:VEVENT
DTSTART;TZID=America/New_York:20240528T190000
DTEND;TZID=America/New_York:20240528T210000
DTSTAMP:20260424T114620
CREATED:20240412T183143Z
LAST-MODIFIED:20240412T183143Z
UID:1173-1716922800-1716930000@harfordcountymd-ares-races.org
SUMMARY:On Air Net
DESCRIPTION:  \nPlease join us for our (twice) monthly\, on-the-air meetings\, on the second and fourth Tuesday of each month\, 7:00 PM Eastern time. We meet on the KC3FHC analog repeater\, frequency 146.775\, (-) PL tone 146.2. ARES/RACES membership is not a requirement to participate in the net.
URL:https://harfordcountymd-ares-races.org/event/on-air-net-26/
LOCATION:Harford County Department of Emergency Services & Remote Locations\, 2220 Ady Rd\, Forest Hill\, 21050\, United States
CATEGORIES:On Air Net
END:VEVENT
BEGIN:VEVENT
DTSTART;TZID=America/New_York:20240514T190000
DTEND;TZID=America/New_York:20240514T210000
DTSTAMP:20260424T114620
CREATED:20240412T183115Z
LAST-MODIFIED:20240412T183115Z
UID:1171-1715713200-1715720400@harfordcountymd-ares-races.org
SUMMARY:On Air Net
DESCRIPTION:  \nPlease join us for our (twice) monthly\, on-the-air meetings\, on the second and fourth Tuesday of each month\, 7:00 PM Eastern time. We meet on the KC3FHC analog repeater\, frequency 146.775\, (-) PL tone 146.2. ARES/RACES membership is not a requirement to participate in the net.
URL:https://harfordcountymd-ares-races.org/event/on-air-net-25/
LOCATION:Harford County Department of Emergency Services & Remote Locations\, 2220 Ady Rd\, Forest Hill\, 21050\, United States
CATEGORIES:On Air Net
END:VEVENT
BEGIN:VEVENT
DTSTART;TZID=America/New_York:20240502T190000
DTEND;TZID=America/New_York:20240502T210000
DTSTAMP:20260424T114620
CREATED:20240412T183003Z
LAST-MODIFIED:20240412T183003Z
UID:1169-1714676400-1714683600@harfordcountymd-ares-races.org
SUMMARY:Monthly Member Meeting
DESCRIPTION:Join us for an in-person\, monthly meeting of the Harford County ARES/RACES Group\, at the Harford County Emergency Operations Center in 2220 Ady Road\, Forest Hill\, MD. Kindly let us know in advance if you would like to attend\, via email to Steven Fook\, Harford County Emergency Coordinator Callsign: K2EJ send email. Thank you. \n 
URL:https://harfordcountymd-ares-races.org/event/monthly-member-meeting-12/
LOCATION:Harford County Department of Emergency Services & Remote Locations\, 2220 Ady Rd\, Forest Hill\, 21050\, United States
CATEGORIES:ARES/RACES Meeting
ATTACH;FMTTYPE=image/jpeg:https://harfordcountymd-ares-races.org/wp-content/uploads/2023/03/244137822_230559015776397_5311459691032320388_n.jpg
END:VEVENT
BEGIN:VEVENT
DTSTART;TZID=America/New_York:20240423T190000
DTEND;TZID=America/New_York:20240423T210000
DTSTAMP:20260424T114620
CREATED:20240412T182906Z
LAST-MODIFIED:20240412T182906Z
UID:1167-1713898800-1713906000@harfordcountymd-ares-races.org
SUMMARY:On Air Net
DESCRIPTION:  \nPlease join us for our (twice) monthly\, on-the-air meetings\, on the second and fourth Tuesday of each month\, 7:00 PM Eastern time. We meet on the KC3FHC analog repeater\, frequency 146.775\, (-) PL tone 146.2. ARES/RACES membership is not a requirement to participate in the net.
URL:https://harfordcountymd-ares-races.org/event/on-air-net-24/
LOCATION:Harford County Department of Emergency Services & Remote Locations\, 2220 Ady Rd\, Forest Hill\, 21050\, United States
CATEGORIES:On Air Net
END:VEVENT
BEGIN:VEVENT
DTSTART;TZID=America/New_York:20240417T170000
DTEND;TZID=America/New_York:20240417T210000
DTSTAMP:20260424T114620
CREATED:20240310T214336Z
LAST-MODIFIED:20240310T214336Z
UID:1156-1713373200-1713387600@harfordcountymd-ares-races.org
SUMMARY:Peach Bottom Out of Sequence Shelter and Reception Center Evaluations
DESCRIPTION:RACES Members\nPlan to attend the Peach Bottom Dress Rehearsal exercise demonstration.  \n  \n Out of Sequence Shelter and Reception Center evaluations. \n\nHarford School of Technology and \nHarford Community College APG ARENA\nARES/RACES office at the Department of Emergency Services\n\n  \nParticipating members will be assigned to a location. \n  \nDinner is provided.
URL:https://harfordcountymd-ares-races.org/event/peach-bottom-out-of-sequence-shelter-and-reception-center-evaluations/
LOCATION:Harford County Department of Emergency Services & Remote Locations\, 2220 Ady Rd\, Forest Hill\, 21050\, United States
CATEGORIES:ARES/RACES Meeting
ORGANIZER;CN="Carlton Wolfe":MAILTO:carltonk3byc@gmail.com
END:VEVENT
BEGIN:VEVENT
DTSTART;TZID=America/New_York:20240416T160000
DTEND;TZID=America/New_York:20240416T220000
DTSTAMP:20260424T114620
CREATED:20240310T213739Z
LAST-MODIFIED:20240412T183725Z
UID:1149-1713283200-1713304800@harfordcountymd-ares-races.org
SUMMARY:Peach Bottom Emergency Activation {Dress Rehearsal}
DESCRIPTION:RACES Members\nPlan to attend the Peach Bottom Dress Rehearsal exercise demonstration.  \nApril 16\, 4:00 PM to around 10:00 PM:   \nHarford County Emergency Services Building \n2220 Ady Road\, Forest Hill\, MD 21050 \nDinner is provided.\nRegarding the Peach Bottom dates and go kit review session: If you haven’t already talked to Carlton\,  please let him know if you will be participating. \nEmail to  Carlton Wolfe.  \n 
URL:https://harfordcountymd-ares-races.org/event/peach-bottom-emergency-activation-dress-rehearsal/
LOCATION:Harford County Department of Emergency Services & Remote Locations\, 2220 Ady Rd\, Forest Hill\, 21050\, United States
CATEGORIES:ARES/RACES Meeting
ORGANIZER;CN="Carlton Wolfe":MAILTO:carltonk3byc@gmail.com
END:VEVENT
BEGIN:VEVENT
DTSTART;TZID=America/New_York:20240409T190000
DTEND;TZID=America/New_York:20240409T210000
DTSTAMP:20260424T114620
CREATED:20240412T182822Z
LAST-MODIFIED:20240412T182822Z
UID:1165-1712689200-1712696400@harfordcountymd-ares-races.org
SUMMARY:On Air Net
DESCRIPTION:  \nPlease join us for our (twice) monthly\, on-the-air meetings\, on the second and fourth Tuesday of each month\, 7:00 PM Eastern time. We meet on the KC3FHC analog repeater\, frequency 146.775\, (-) PL tone 146.2. ARES/RACES membership is not a requirement to participate in the net.
URL:https://harfordcountymd-ares-races.org/event/on-air-net-23/
LOCATION:Harford County Department of Emergency Services & Remote Locations\, 2220 Ady Rd\, Forest Hill\, 21050\, United States
CATEGORIES:On Air Net
END:VEVENT
BEGIN:VEVENT
DTSTART;TZID=America/New_York:20240404T190000
DTEND;TZID=America/New_York:20240404T210000
DTSTAMP:20260424T114620
CREATED:20240223T162256Z
LAST-MODIFIED:20240223T162256Z
UID:1117-1712257200-1712264400@harfordcountymd-ares-races.org
SUMMARY:Monthly Member Meeting
DESCRIPTION:Join us for an in-person\, monthly meeting of the Harford County ARES/RACES Group\, at the Harford County Emergency Operations Center in 2220 Ady Road\, Forest Hill\, MD. Kindly let us know in advance if you would like to attend\, via email to Steven Fook\, Harford County Emergency Coordinator Callsign: K2EJ send email. Thank you. \n 
URL:https://harfordcountymd-ares-races.org/event/monthly-member-meeting-11/
LOCATION:Harford County Department of Emergency Services & Remote Locations\, 2220 Ady Rd\, Forest Hill\, 21050\, United States
CATEGORIES:ARES/RACES Meeting
ATTACH;FMTTYPE=image/jpeg:https://harfordcountymd-ares-races.org/wp-content/uploads/2023/03/244137822_230559015776397_5311459691032320388_n.jpg
END:VEVENT
BEGIN:VEVENT
DTSTART;TZID=America/New_York:20240326T190000
DTEND;TZID=America/New_York:20240326T210000
DTSTAMP:20260424T114620
CREATED:20240214T224307Z
LAST-MODIFIED:20240214T224307Z
UID:1102-1711479600-1711486800@harfordcountymd-ares-races.org
SUMMARY:On Air Net
DESCRIPTION:  \nPlease join us for our (twice) monthly\, on-the-air meetings\, on the second and fourth Tuesday of each month\, 7:00 PM Eastern time. We meet on the KC3FHC analog repeater\, frequency 146.775\, (-) PL tone 146.2. ARES/RACES membership is not a requirement to participate in the net.
URL:https://harfordcountymd-ares-races.org/event/on-air-net-22/
LOCATION:Harford County Department of Emergency Services & Remote Locations\, 2220 Ady Rd\, Forest Hill\, 21050\, United States
CATEGORIES:On Air Net
END:VEVENT
BEGIN:VEVENT
DTSTART;TZID=America/New_York:20240323T090000
DTEND;TZID=America/New_York:20240323T140000
DTSTAMP:20260424T114620
CREATED:20240310T205526Z
LAST-MODIFIED:20240310T210306Z
UID:1142-1711184400-1711202400@harfordcountymd-ares-races.org
SUMMARY:GO-Kit and FLDIGI Review Session
DESCRIPTION:GO-Kit and FLDIGI Review Session\n  \nJoin us in our Go-kit and FLDIGI* review session\, in advance of our expected deployment in April. The date is Saturday March 23\, 9:00 AM at the Harford County Department of Emergency Services\,  Training Classroom (Room 138 near the RACES Room). Dixon Barthel will be the instructor. Contact Dixon please for more information.  \n \n*Fldigi (short for Fast light digital) is a free and open-source program which allows an ordinary computer’s sound card to be used as a simple two-way data modem. The software is mostly used by amateur radio operators who connect the microphone and headphone connections of an amateur radio SSB or FM transceiver to the computer’s headphone and microphone connections\, respectively.(courtesy of Wikipedia)
URL:https://harfordcountymd-ares-races.org/event/1142/
LOCATION:Harford County Department of Emergency Services & Remote Locations\, 2220 Ady Rd\, Forest Hill\, 21050\, United States
CATEGORIES:ARES/RACES Meeting
ORGANIZER;CN="Dixon Barthel":MAILTO:K3WNS@gmail.com
END:VEVENT
END:VCALENDAR