BEGIN:VCALENDAR
VERSION:2.0
PRODID:-//Harford County Amateur Radio ARES RACES - ECPv6.15.20//NONSGML v1.0//EN
CALSCALE:GREGORIAN
METHOD:PUBLISH
X-WR-CALNAME:Harford County Amateur Radio ARES RACES
X-ORIGINAL-URL:https://harfordcountymd-ares-races.org
X-WR-CALDESC:Events for Harford County Amateur Radio ARES RACES
REFRESH-INTERVAL;VALUE=DURATION:PT1H
X-Robots-Tag:noindex
X-PUBLISHED-TTL:PT1H
BEGIN:VTIMEZONE
TZID:America/New_York
BEGIN:DAYLIGHT
TZOFFSETFROM:-0500
TZOFFSETTO:-0400
TZNAME:EDT
DTSTART:20220313T070000
END:DAYLIGHT
BEGIN:STANDARD
TZOFFSETFROM:-0400
TZOFFSETTO:-0500
TZNAME:EST
DTSTART:20221106T060000
END:STANDARD
BEGIN:DAYLIGHT
TZOFFSETFROM:-0500
TZOFFSETTO:-0400
TZNAME:EDT
DTSTART:20230312T070000
END:DAYLIGHT
BEGIN:STANDARD
TZOFFSETFROM:-0400
TZOFFSETTO:-0500
TZNAME:EST
DTSTART:20231105T060000
END:STANDARD
BEGIN:DAYLIGHT
TZOFFSETFROM:-0500
TZOFFSETTO:-0400
TZNAME:EDT
DTSTART:20240310T070000
END:DAYLIGHT
BEGIN:STANDARD
TZOFFSETFROM:-0400
TZOFFSETTO:-0500
TZNAME:EST
DTSTART:20241103T060000
END:STANDARD
END:VTIMEZONE
BEGIN:VEVENT
DTSTART;TZID=America/New_York:20231114T190000
DTEND;TZID=America/New_York:20231114T210000
DTSTAMP:20260419T210405
CREATED:20230913T151147Z
LAST-MODIFIED:20231011T014034Z
UID:920-1699988400-1699995600@harfordcountymd-ares-races.org
SUMMARY:On Air Net
DESCRIPTION:Please join us for our (twice) monthly\, net (on-the-air meetings)\, on the second and fourth Tuesday of each month\, 7:00 PM Eastern time. We meet on the KC3FHC analog repeater\, frequency 146.775\, (-) PL tone 146.2. You need not be a member of Harford County ARES but must be a licensed  amateur Radio operator to participate\,
URL:https://harfordcountymd-ares-races.org/event/on-air-net-12/
LOCATION:Harford County Department of Emergency Services & Remote Locations\, 2220 Ady Rd\, Forest Hill\, 21050\, United States
CATEGORIES:On Air Net
END:VEVENT
BEGIN:VEVENT
DTSTART;TZID=America/New_York:20231128T190000
DTEND;TZID=America/New_York:20231128T210000
DTSTAMP:20260419T210405
CREATED:20231011T014145Z
LAST-MODIFIED:20231011T014145Z
UID:972-1701198000-1701205200@harfordcountymd-ares-races.org
SUMMARY:On Air Net
DESCRIPTION:Please join us for our (twice) monthly\, on-the-air meetings\, on the second and fourth Tuesday of each month\, 7:00 PM Eastern time. We meet on the KC3FHC analog repeater\, frequency 146.775\, (-) PL tone 146.2.
URL:https://harfordcountymd-ares-races.org/event/on-air-net-13/
LOCATION:Harford County Department of Emergency Services & Remote Locations\, 2220 Ady Rd\, Forest Hill\, 21050\, United States
CATEGORIES:On Air Net
END:VEVENT
END:VCALENDAR