BEGIN:VCALENDAR
VERSION:2.0
PRODID:-//Harford County Amateur Radio ARES RACES - ECPv6.15.20//NONSGML v1.0//EN
CALSCALE:GREGORIAN
METHOD:PUBLISH
X-WR-CALNAME:Harford County Amateur Radio ARES RACES
X-ORIGINAL-URL:https://harfordcountymd-ares-races.org
X-WR-CALDESC:Events for Harford County Amateur Radio ARES RACES
REFRESH-INTERVAL;VALUE=DURATION:PT1H
X-Robots-Tag:noindex
X-PUBLISHED-TTL:PT1H
BEGIN:VTIMEZONE
TZID:America/New_York
BEGIN:DAYLIGHT
TZOFFSETFROM:-0500
TZOFFSETTO:-0400
TZNAME:EDT
DTSTART:20230312T070000
END:DAYLIGHT
BEGIN:STANDARD
TZOFFSETFROM:-0400
TZOFFSETTO:-0500
TZNAME:EST
DTSTART:20231105T060000
END:STANDARD
BEGIN:DAYLIGHT
TZOFFSETFROM:-0500
TZOFFSETTO:-0400
TZNAME:EDT
DTSTART:20240310T070000
END:DAYLIGHT
BEGIN:STANDARD
TZOFFSETFROM:-0400
TZOFFSETTO:-0500
TZNAME:EST
DTSTART:20241103T060000
END:STANDARD
BEGIN:DAYLIGHT
TZOFFSETFROM:-0500
TZOFFSETTO:-0400
TZNAME:EDT
DTSTART:20250309T070000
END:DAYLIGHT
BEGIN:STANDARD
TZOFFSETFROM:-0400
TZOFFSETTO:-0500
TZNAME:EST
DTSTART:20251102T060000
END:STANDARD
END:VTIMEZONE
BEGIN:VEVENT
DTSTART;TZID=America/New_York:20240124T183000
DTEND;TZID=America/New_York:20240124T203000
DTSTAMP:20260420T090448
CREATED:20231213T220600Z
LAST-MODIFIED:20240113T223939Z
UID:1033-1706121000-1706128200@harfordcountymd-ares-races.org
SUMMARY:Sixth Elementary Electronics Class For Hams (Arduino)
DESCRIPTION:We are pleased to announce the sixth class in a series of simple\, ham-related\, electronic projects\, presented by one of our members\, Dixon Barthel K3WNS. The project for this session is “Arduino circuits and programming for amateur radio”. Click here for outline    \nFor those who have missed the previous sessions\, we talked about the basics like Ohm’s law\, inductors\, capacitors\, transistors\, and the like. All the notes from those sessions are available. We also played with Arduino and PIC projects. The previous class introduced Arduino code and simple circuit. Other classes discussed simple\, practical code oscillators\, the workings of an ammeter and a voltmeter. \nThis sixth class is on Wednesday\, January 24\, 2024\, Currently (though we may change) the meetings are held at the Department of Emergency Services at 2220 Ady Road\, Forest Hill\, MD 21050\,  just north of Conowingo Road (see the tall tower and you’re there). We’re meeting in room 106. Just ask the attendant where to go and log in. We meet every other Wednesday at 6:30pm in the evening and go to about 8:30pm. No charge. \nFor your part\, you’ll need an Arduino board\, breadboard\, some LEDs\, some resistors\, and some capacitors. You’ll also need a power supply to provide 9-12 volts to your board. \nWe just want to help folks know how to do stuff. Attendees’ may be (but do not have to be) be a member of Harford County ARES/RACES\, or can hold or are interested in getting an amateur FCC radio license. There is no fee for the class\, but there could be a small fee for parts. \nIn order to attend\, please contact K3WNS Dixon Barthel \, K3WNS@gmail.com first\, via email\, for more information and prior to attending . \n\n \n\n \n\n\nHere are notes from previous classes: \n\nFirst Class Notes: \nMaking a Voltmeter and an Ammeter \n\nSecond Class Notes: \n555-Morse-Code-Oscillator-Kit-V3 \nThird Class Notes: \n16_555_Timer_Overview \nFourth Class N0tes: \n555 Timer Addendum \n\nFifth and Six  Class N0tes: \nArduino Class Notes \n  \n\n  \n 
URL:https://harfordcountymd-ares-races.org/event/firth-elementary-electronics-class-for-hams/
LOCATION:Harford County Department of Emergency Services & Remote Locations\, 2220 Ady Rd\, Forest Hill\, 21050\, United States
CATEGORIES:ARES/RACES Meeting,News
ATTACH;FMTTYPE=image/jpeg:https://harfordcountymd-ares-races.org/wp-content/uploads/2023/12/Dixon1-scaled.jpg
ORGANIZER;CN="Dixon Barthel":MAILTO:K3WNS@gmail.com
END:VEVENT
END:VCALENDAR