BEGIN:VCALENDAR
VERSION:2.0
PRODID:-//Harford County Amateur Radio ARES RACES - ECPv6.15.20//NONSGML v1.0//EN
CALSCALE:GREGORIAN
METHOD:PUBLISH
X-ORIGINAL-URL:https://harfordcountymd-ares-races.org
X-WR-CALDESC:Events for Harford County Amateur Radio ARES RACES
REFRESH-INTERVAL;VALUE=DURATION:PT1H
X-Robots-Tag:noindex
X-PUBLISHED-TTL:PT1H
BEGIN:VTIMEZONE
TZID:America/New_York
BEGIN:DAYLIGHT
TZOFFSETFROM:-0500
TZOFFSETTO:-0400
TZNAME:EDT
DTSTART:20220313T070000
END:DAYLIGHT
BEGIN:STANDARD
TZOFFSETFROM:-0400
TZOFFSETTO:-0500
TZNAME:EST
DTSTART:20221106T060000
END:STANDARD
BEGIN:DAYLIGHT
TZOFFSETFROM:-0500
TZOFFSETTO:-0400
TZNAME:EDT
DTSTART:20230312T070000
END:DAYLIGHT
BEGIN:STANDARD
TZOFFSETFROM:-0400
TZOFFSETTO:-0500
TZNAME:EST
DTSTART:20231105T060000
END:STANDARD
BEGIN:DAYLIGHT
TZOFFSETFROM:-0500
TZOFFSETTO:-0400
TZNAME:EDT
DTSTART:20240310T070000
END:DAYLIGHT
BEGIN:STANDARD
TZOFFSETFROM:-0400
TZOFFSETTO:-0500
TZNAME:EST
DTSTART:20241103T060000
END:STANDARD
END:VTIMEZONE
BEGIN:VEVENT
DTSTART;TZID=America/New_York:20231018T183000
DTEND;TZID=America/New_York:20231018T203000
DTSTAMP:20260419T135027
CREATED:20231011T011220Z
LAST-MODIFIED:20231011T015810Z
UID:955-1697653800-1697661000@harfordcountymd-ares-races.org
SUMMARY:Third Elementary Electronics Class
DESCRIPTION:We are pleased to announce the third class in a series of simple\, ham-related\, electronic projects\, presented by one of our members\, Dixon Barthel K3WNS. This is actually a continuation of an ongoing course in elementary electronics and projects for hams. Anyone is welcome to attend. No previous knowledge in electronics is required. (It would be nice\, however).\n \n\nThe project for this session is “555 Timer Use Projects“. We’ll take a look at various\, hands-on  projects that we can make using the 555 timer.  For your part\, you’ll need a breadboard (like the one you bought for the Arduino projects)\, some LEDs\, some resistors\, and some capacitors.  You’ll also need a power supply to provide 9-12 volts to your board. \nWe will be providing the 555s\, gotten in bulk from Amazon.  For those who have missed the introductory sessions\, we talked about the basics like Ohm’s law\, inductors\, capacitors\, transistors\, and the like. All the notes from those sessions are available. We also played with Arduino and PIC projects. The last class we discussed simple\, practical code oscillators\, The previous class discussed the workings of an ammeter and a voltmeter.    \n\n \nThe third class is on Wednesday\, October 18 2023\, Currently (though we may change) the meetings are held at the Department of Emergency Services at 2220 Ady Road\, Forest Hill\, MD 21050\, just north of Conowingo Road (see the tall tower and you’re there). We’re meeting in room 106. Just ask the attendant where to go and log in. We meet every other Wednesday at 6:30pm in the evening and go to about 8:30pm. No charge.\n \nWe just want to help folks know how to do stuff. Atendees may be (but do not have to be) be a member of Harford County ARES/RACES\, or can hold or are interested in getting an amatuer radio license. There is no fee for the class\, but there coud be a small fee for parts. In order to attend\, please contact K3WNS Dixon Barthel \, K3WNS@gmail.com first\, via email\, for more information and prior to attendng .
URL:https://harfordcountymd-ares-races.org/event/third-elementary-electronics-class/
LOCATION:Harford County Department of Emergency Services & Remote Locations\, 2220 Ady Rd\, Forest Hill\, 21050\, United States
CATEGORIES:ARES/RACES Meeting
ORGANIZER;CN="Dixon Barthel":MAILTO:K3WNS@gmail.com
END:VEVENT
BEGIN:VEVENT
DTSTART;TZID=America/New_York:20231005T190000
DTEND;TZID=America/New_York:20231005T210000
DTSTAMP:20260419T135027
CREATED:20230913T151254Z
LAST-MODIFIED:20230913T151254Z
UID:922-1696532400-1696539600@harfordcountymd-ares-races.org
SUMMARY:Monthly Member Meeting
DESCRIPTION:Join us for an in-person meeting of the Harford County ARES/RACES Group\, at the Harford County Emergency Operations Center in Forest Hill\, MD.Kindly let us know in advance if you would like to attend\, via email to Steven Fook\, Harford County Emergency Coodinator Callsign: K2EJ send email. Thank you.
URL:https://harfordcountymd-ares-races.org/event/monthly-member-meeting-5/
LOCATION:Harford County Department of Emergency Services & Remote Locations\, 2220 Ady Rd\, Forest Hill\, 21050\, United States
CATEGORIES:ARES/RACES Meeting
END:VEVENT
BEGIN:VEVENT
DTSTART;TZID=America/New_York:20231004T180000
DTEND;TZID=America/New_York:20231004T210000
DTSTAMP:20260419T135027
CREATED:20231002T170335Z
LAST-MODIFIED:20231002T170516Z
UID:937-1696442400-1696453200@harfordcountymd-ares-races.org
SUMMARY:Second Elementary Electronics Class
DESCRIPTION:We are pleased to announce that the second class in a series of ham-related\, electronic projects\, presented by one of our members\, Dixon Barthel. This is actually a continuation of an ongoing course in Electronics and projects for Hams. Anyone is welcome to attend. No previous knowledge in electronics is required. (It would be nice\, however).\nThe project for this session is “Code Practice Oscillator”. It’s old school. we’ll go over all the basics and what’s needed to make the tool. We’ll be looking at several different options from simple to more complex and designing and making something that will work for you.\nBeyond that\, we plan to look at an SWR meter\, an digital time clock\, a frequency counter\, and whatever happens to interest you. For those who have missed the introductory sessions\, we talked about the basics like Ohm’s law\, inductors\, capacitors\, transistors\, and the like. All the notes from those sessions are available. We also played with Arduino and PIC projects.\nThe second class is on Wednesday\, October 4\, 2023\, Currently (though we may change) the meetings are held at the Department of Emergency Services at 2220 Ady Road\, Forest Hill\, MD 21050\, just north of Conowingo Road (see the tall tower and you’re there). We’re meeting in room 106. Just ask the attendant where to go and log in. We meet every other Wednesday at 6:30 in the evening and go to about 8:00. No charge. We just want to help folks know how to do stuff. Atendees may be (but do not have to be) be a member of Harford County ARES/RACES\, or can hold or are interested in getting an amatuer radio license. There is no fee for the class\, but there coud be a small fee for parts. In order to attend\, please contact K3WNS Dixon Barthel \, K3WNS@gmail.com first\, via email\, for more information and prior to attendng . 
URL:https://harfordcountymd-ares-races.org/event/second-elementary-electronics-class/
LOCATION:Harford County Department of Emergency Services & Remote Locations\, 2220 Ady Rd\, Forest Hill\, 21050\, United States
CATEGORIES:ARES/RACES Meeting
ORGANIZER;CN="Dixon Barthel":MAILTO:K3WNS@gmail.com
END:VEVENT
BEGIN:VEVENT
DTSTART;TZID=America/New_York:20230907T190000
DTEND;TZID=America/New_York:20230907T210000
DTSTAMP:20260419T135027
CREATED:20230821T153047Z
LAST-MODIFIED:20230821T153047Z
UID:890-1694113200-1694120400@harfordcountymd-ares-races.org
SUMMARY:Monthly Member Meeting
DESCRIPTION:Join us for an in-person meeting of the Harford County ARES/RACES Group\, at the Harford County Emergency Operations Center in Forest Hill\, MD.Kindly let us know in advance if you would like to attend\, via email to Steven Fook\, Harford County Emergency Coodinator Callsign: K2EJ send email. Thank you.
URL:https://harfordcountymd-ares-races.org/event/monthly-member-meeting-4/
LOCATION:Harford County Department of Emergency Services & Remote Locations\, 2220 Ady Rd\, Forest Hill\, 21050\, United States
CATEGORIES:ARES/RACES Meeting
END:VEVENT
BEGIN:VEVENT
DTSTART;TZID=America/New_York:20230803T190000
DTEND;TZID=America/New_York:20230803T210000
DTSTAMP:20260419T135027
CREATED:20230715T005637Z
LAST-MODIFIED:20230715T005637Z
UID:829-1691089200-1691096400@harfordcountymd-ares-races.org
SUMMARY:Monthly Member Meeting
DESCRIPTION:Join us for an in-person meeting of the Harford County ARES/RACES Group\, at the Harford County Emergency Operations Center in Forest Hill\, MD.Kindly let us know in advance if you would like to attend\, via email (W3YR@arrl.net). Thank you.
URL:https://harfordcountymd-ares-races.org/event/monthly-member-meeting-3/
LOCATION:Harford County Department of Emergency Services & Remote Locations\, 2220 Ady Rd\, Forest Hill\, 21050\, United States
CATEGORIES:ARES/RACES Meeting
END:VEVENT
BEGIN:VEVENT
DTSTART;TZID=America/New_York:20230706T190000
DTEND;TZID=America/New_York:20230706T210000
DTSTAMP:20260419T135027
CREATED:20230628T165213Z
LAST-MODIFIED:20230628T165213Z
UID:677-1688670000-1688677200@harfordcountymd-ares-races.org
SUMMARY:Monthly Member Meeting
DESCRIPTION:Join us for an in-person meeting of the Harford County ARES/RACES Group\, at the Harford County Emergency Operations Center in Forest Hill\, MD.Kindly let us know in advance if you would like to attend\, via email (W3YR@arrl.net). Thank you.
URL:https://harfordcountymd-ares-races.org/event/monthly-member-meeting-2/
LOCATION:Harford County Department of Emergency Services & Remote Locations\, 2220 Ady Rd\, Forest Hill\, 21050\, United States
CATEGORIES:ARES/RACES Meeting
END:VEVENT
BEGIN:VEVENT
DTSTART;TZID=America/New_York:20230601T190000
DTEND;TZID=America/New_York:20230601T210000
DTSTAMP:20260419T135027
CREATED:20230523T161434Z
LAST-MODIFIED:20230523T161434Z
UID:671-1685646000-1685653200@harfordcountymd-ares-races.org
SUMMARY:Monthly Member Meeting
DESCRIPTION:Join us for an in-person meeting of the Harford County ARES/RACES Group\, at the Harford County Emergency Operations Center in Forest Hill\, MD.Kindly let us know in advance if you would like to attend\, via email (W3YR@arrl.net). Thank you.
URL:https://harfordcountymd-ares-races.org/event/monthly-member-meeting/
LOCATION:Harford County Department of Emergency Services & Remote Locations\, 2220 Ady Rd\, Forest Hill\, 21050\, United States
CATEGORIES:ARES/RACES Meeting
END:VEVENT
BEGIN:VEVENT
DTSTART;TZID=America/New_York:20230504T190000
DTEND;TZID=America/New_York:20230504T210000
DTSTAMP:20260419T135027
CREATED:20230427T231203Z
LAST-MODIFIED:20230427T231343Z
UID:665-1683226800-1683234000@harfordcountymd-ares-races.org
SUMMARY:Monthly Meeting
DESCRIPTION:Join us for our monthly\, in-person\, meeting for members of the volunteer emergency\, amateur radio team. Meetings are held in Room #105 of the Harford County Emergency Operations Center\, 2220 Ady Road\, Forest Hill\, MD 21050
URL:https://harfordcountymd-ares-races.org/event/monthly-meeting/
LOCATION:Harford County Department of Emergency Services & Remote Locations\, 2220 Ady Rd\, Forest Hill\, 21050\, United States
CATEGORIES:ARES/RACES Meeting
END:VEVENT
END:VCALENDAR